{"text_format":"3","workbook":"xlsx","n_sheets":3,"sheets":["Sheet1","Sheet2","Sheet3"],"not_rendered":{"external_links":1,"defined_names":2},"read":"whole","date_system":"1900"}

{"sheet":"Sheet1","index":0,"n_rows":62,"n_cols":6,"rows_kept":62,"merged":[[0,0,0,5]]}
["2018年第二次总监例会与会人员名单"]
["序号","姓名","所在部门/项目","事业部","电话号码","签到"]
[1,"杨阔","第一事业部","一",{"$f":"VLOOKUP(B3,[1]员工!$C$3:$G$506,5,0)","v":"15004038686、13002439349"}]
[2,"李芳梅","苏家屯沈铁","一",{"$f":"VLOOKUP(B4,[1]员工!$C$3:$G$506,5,0)","v":"13386874396"}]
[3,"段炼","月星国际","一",{"$f":"VLOOKUP(B5,[1]员工!$C$3:$G$506,5,0)","v":13998288440}]
[4,"白山","10号线风水电","一",{"$f":"VLOOKUP(B6,[1]员工!$C$3:$G$506,5,0)","v":"13514287115"}]
[5,"姜贺民","综保区联检服务中心","一",{"$f":"VLOOKUP(B7,[1]员工!$C$3:$G$506,5,0)","v":"13842093051"}]
[6,"胡淳奕","电力事业部","一",{"$f":"VLOOKUP(B8,[1]员工!$C$3:$G$506,5,0)","v":18704063655}]
[7,"佟学东","电力事业部","一",15042513131]
[8,"刘晓伟","锦州太阳广场","二",{"$f":"VLOOKUP(B10,[1]员工!$C$3:$G$506,5,0)","v":"13897999392"}]
[9,"王吉锋","浦江苑三期","二",{"$f":"VLOOKUP(B11,[1]员工!$C$3:$G$506,5,0)","v":"15802467518"}]
[10,"孙洪志","孔雀城","二",{"$f":"VLOOKUP(B12,[1]员工!$C$3:$G$506,5,0)","v":"15840222980"}]
[11,"崔红伟","国税局","二",{"$f":"VLOOKUP(B13,[1]员工!$C$3:$G$506,5,0)","v":"13478897703"}]
[12,"刘欢","锦州太阳广场","二",{"$f":"VLOOKUP(B14,[1]员工!$C$3:$G$506,5,0)","v":"15904038243"}]
[13,"杨兆波","华润长安里","二",{"$f":"VLOOKUP(B15,[1]员工!$C$3:$G$506,5,0)","v":13591465456}]
[14,"孙德金","营口忠旺铝业1.2","二",{"$f":"VLOOKUP(B16,[1]员工!$C$3:$G$506,5,0)","v":"13019304958、18741745902（外）"}]
[15,"赵金明","盘锦铝业","二",{"$f":"VLOOKUP(B17,[1]员工!$C$3:$G$506,5,0)","v":"13940164065"}]
[16,"丁兆兰","中晨厂房","二",{"$f":"VLOOKUP(B18,[1]员工!$C$3:$G$506,5,0)","v":"13840013119"}]
[17,"张伟","万象生活城","二",15802418930]
[18,"费坚",425,"三",{"$f":"VLOOKUP(B20,[1]员工!$C$3:$G$506,5,0)","v":"13386867868"}]
[19,"汪振军",425,"三",13940125408]
[20,"王崇","中港项目","三",{"$f":"VLOOKUP(B22,[1]员工!$C$3:$G$506,5,0)","v":"13019319777"}]
[21,"吴彤","阳光尚城","三",{"$f":"VLOOKUP(B23,[1]员工!$C$3:$G$506,5,0)","v":15940326278}]
[22,"张宝军","龙江苑","三",{"$f":"VLOOKUP(B24,[1]员工!$C$3:$G$506,5,0)","v":18900924663}]
[23,"李晓龙","沈北移动","三",{"$f":"VLOOKUP(B25,[1]员工!$C$3:$G$506,5,0)","v":18602472202}]
[24,"赵勇","亚朵酒店","三",13889179062]
[25,"王帅","第四事业部","四",{"$f":"VLOOKUP(B27,[1]员工!$C$3:$G$506,5,0)","v":"13940061315"}]
[26,"庞浩","华润翡翠城一期","四",{"$f":"VLOOKUP(B28,[1]员工!$C$3:$G$506,5,0)","v":15840300335}]
[27,"芦冬冬","华润翡翠城二期","四",{"$f":"VLOOKUP(B29,[1]员工!$C$3:$G$506,5,0)","v":"13166661621"}]
[28,"米鑫","华润净月薹","四",{"$f":"VLOOKUP(B30,[1]员工!$C$3:$G$506,5,0)","v":13889270010}]
[29,"黄跃华","华润二十四城一标段","四",15940429182]
[30,"蒋中华","华润二十四城二标段","四",{"$f":"VLOOKUP(B32,[1]员工!$C$3:$G$506,5,0)","v":15840447785}]
[31,"李博","华润昆仑御","四",{"$f":"VLOOKUP(B33,[1]员工!$C$3:$G$506,5,0)","v":"15542261037"}]
[32,"李善童","汉堡王","五",15802444393]
[33,"张媛","汉堡王","五",18802411413]
[34,"郎婷婷","汉堡王","五",15802471152]
[35,"张平","浑南几所小学","五",{"$f":"VLOOKUP(B37,[1]员工!$C$3:$G$506,5,0)","v":13940512418}]
[36,"赵钢","新世界花园","六",{"$f":"VLOOKUP(B38,[1]员工!$C$3:$G$506,5,0)","v":"13940512010"}]
[37,"刘佳龙","万科仲山花园","六",{"$f":"VLOOKUP(B39,[1]员工!$C$3:$G$506,5,0)","v":"15040053220"}]
[38,"吴侃","万科翡翠之光","六",{"$f":"VLOOKUP(B40,[1]员工!$C$3:$G$506,5,0)","v":13998886942}]
[39,"王忠福","华润八号院","六",{"$f":"VLOOKUP(B41,[1]员工!$C$3:$G$506,5,0)","v":15909823394}]
[40,"高继南","美的盛堂","六",{"$f":"VLOOKUP(B42,[1]员工!$C$3:$G$506,5,0)","v":"13020327800"}]
[41,"贾科铭","峰尚花园","六",{"$f":"VLOOKUP(B43,[1]员工!$C$3:$G$506,5,0)","v":13664157312}]
[42,"刘伟楠","新世界花园","六",{"$f":"VLOOKUP(B44,[1]员工!$C$3:$G$506,5,0)","v":"18842481321"}]
[43,"吴迪","新世界花园","六",{"$f":"VLOOKUP(B45,[1]员工!$C$3:$G$506,5,0)","v":"15998849771"}]
[44,"张振伟","华润悦玺","六",17624029293]
[45,"孙茂阳","美的城","六",{"$f":"VLOOKUP(B47,[1]员工!$C$3:$G$506,5,0)","v":"15040382899"}]
[46,"王东","美的时代城","六",{"$f":"VLOOKUP(B48,[1]员工!$C$3:$G$506,5,0)","v":13284138628}]
[47,"赵金","九院","七",{"$f":"VLOOKUP(B49,[1]员工!$C$3:$G$506,5,0)","v":"13591688862"}]
[48,"张子亮","盛京医院改造","七",{"$f":"VLOOKUP(B50,[1]员工!$C$3:$G$506,5,0)","v":"15040276955"}]
[49,"张威","医大一院","七",{"$f":"VLOOKUP(B51,[1]员工!$C$3:$G$506,5,0)","v":"15504039469"}]
[50,"金贞玉","肿瘤医院","七",{"$f":"VLOOKUP(B52,[1]员工!$C$3:$G$506,5,0)","v":"15840087026、15524189131"}]
[51,"刘淼","医大新校区","七",{"$f":"VLOOKUP(B53,[1]员工!$C$3:$G$506,5,0)","v":13889860603}]
[52,"郭佳林","浑南医大","七",{"$f":"VLOOKUP(B54,[1]员工!$C$3:$G$506,5,0)","v":13840238004}]
[53,"刘海军","第八事业部","八",13555737747]
[54,"唐忠义","开原部队","八",{"$f":"VLOOKUP(B56,[1]员工!$C$3:$G$506,5,0)","v":"13898821830"}]
[55,"满正阳","辽宁广电总局","八",{"$f":"VLOOKUP(B57,[1]员工!$C$3:$G$506,5,0)","v":"13940600245"}]
[56,"魏祥文","沈北市政",null,{"$f":"VLOOKUP(B58,[1]员工!$C$3:$G$506,5,0)","v":"13940213165"}]
[57,"杨建宏","浑南市政",null,{"$f":"VLOOKUP(B59,[1]员工!$C$3:$G$506,5,0)","v":13840076276}]
[58,"房大伟","康平市政",null,{"$f":"VLOOKUP(B60,[1]员工!$C$3:$G$506,5,0)","v":"13478808025"}]
[59,"张志春","本溪市政",null,15940554260]
[60,"郑祥","万科品质小组",null,13889318485]

{"sheet":"Sheet2","index":1,"n_rows":0,"n_cols":0,"rows_kept":0}

{"sheet":"Sheet3","index":2,"n_rows":0,"n_cols":0,"rows_kept":0}